BEGIN:VCALENDAR
VERSION:2.0
PRODID:-//Kentucky Humanities - ECPv6.15.20//NONSGML v1.0//EN
CALSCALE:GREGORIAN
METHOD:PUBLISH
X-WR-CALNAME:Kentucky Humanities
X-ORIGINAL-URL:https://kyhumanities.org
X-WR-CALDESC:Events for Kentucky Humanities
REFRESH-INTERVAL;VALUE=DURATION:PT1H
X-Robots-Tag:noindex
X-PUBLISHED-TTL:PT1H
BEGIN:VTIMEZONE
TZID:America/New_York
BEGIN:DAYLIGHT
TZOFFSETFROM:-0500
TZOFFSETTO:-0400
TZNAME:EDT
DTSTART:20240310T070000
END:DAYLIGHT
BEGIN:STANDARD
TZOFFSETFROM:-0400
TZOFFSETTO:-0500
TZNAME:EST
DTSTART:20241103T060000
END:STANDARD
BEGIN:DAYLIGHT
TZOFFSETFROM:-0500
TZOFFSETTO:-0400
TZNAME:EDT
DTSTART:20250309T070000
END:DAYLIGHT
BEGIN:STANDARD
TZOFFSETFROM:-0400
TZOFFSETTO:-0500
TZNAME:EST
DTSTART:20251102T060000
END:STANDARD
BEGIN:DAYLIGHT
TZOFFSETFROM:-0500
TZOFFSETTO:-0400
TZNAME:EDT
DTSTART:20260308T070000
END:DAYLIGHT
BEGIN:STANDARD
TZOFFSETFROM:-0400
TZOFFSETTO:-0500
TZNAME:EST
DTSTART:20261101T060000
END:STANDARD
END:VTIMEZONE
BEGIN:VEVENT
DTSTART;TZID=America/New_York:20251016T173000
DTEND;TZID=America/New_York:20251016T183000
DTSTAMP:20260420T051608
CREATED:20250917T130438Z
LAST-MODIFIED:20250917T130438Z
UID:22850-1760635800-1760639400@kyhumanities.org
SUMMARY:Feeding Nightmares
DESCRIPTION:Location:\nMcCracken County Public Library\n\n\nCounty:\nMccracken\n\n\nSponsor:\nMcCracken County Public Library\n\n\nCoordinator:\nBobbie Wrinkle\n\n\nPhone:\n(270) 442-2510 x119\n\n\nPresenter:\nMary Hamilton
URL:https://kyhumanities.org/event/feeding-nightmares/
LOCATION:McCracken County Public Library\, 555 Washington St\, Paducah\, KY\, 42003-1735
END:VEVENT
BEGIN:VEVENT
DTSTART;TZID=America/New_York:20251016T173000
DTEND;TZID=America/New_York:20251016T183000
DTSTAMP:20260420T051608
CREATED:20251015T210439Z
LAST-MODIFIED:20251015T210439Z
UID:23029-1760635800-1760639400@kyhumanities.org
SUMMARY:Family Movie Night
DESCRIPTION:Location:\nCentral City Public Library\n\n\nCounty:\nMuhlenberg\n\n\nSponsor:\nMuhlenberg County Public Library District\n\n\nCoordinator:\nAmie Waltrip\n\n\nPhone:\n(270) 338-4760\n\n\nPresenter:\nBetsy Allen\, Emily Sherman
URL:https://kyhumanities.org/event/family-movie-night/
LOCATION:Central City Public Library\, 108 E Broad St\, Central City\, KY\, 42330-1516
END:VEVENT
END:VCALENDAR