BEGIN:VCALENDAR
VERSION:2.0
PRODID:-//Kentucky Humanities - ECPv6.15.20//NONSGML v1.0//EN
CALSCALE:GREGORIAN
METHOD:PUBLISH
X-WR-CALNAME:Kentucky Humanities
X-ORIGINAL-URL:https://kyhumanities.org
X-WR-CALDESC:Events for Kentucky Humanities
REFRESH-INTERVAL;VALUE=DURATION:PT1H
X-Robots-Tag:noindex
X-PUBLISHED-TTL:PT1H
BEGIN:VTIMEZONE
TZID:America/New_York
BEGIN:DAYLIGHT
TZOFFSETFROM:-0500
TZOFFSETTO:-0400
TZNAME:EDT
DTSTART:20250309T070000
END:DAYLIGHT
BEGIN:STANDARD
TZOFFSETFROM:-0400
TZOFFSETTO:-0500
TZNAME:EST
DTSTART:20251102T060000
END:STANDARD
BEGIN:DAYLIGHT
TZOFFSETFROM:-0500
TZOFFSETTO:-0400
TZNAME:EDT
DTSTART:20260308T070000
END:DAYLIGHT
BEGIN:STANDARD
TZOFFSETFROM:-0400
TZOFFSETTO:-0500
TZNAME:EST
DTSTART:20261101T060000
END:STANDARD
BEGIN:DAYLIGHT
TZOFFSETFROM:-0500
TZOFFSETTO:-0400
TZNAME:EDT
DTSTART:20270314T070000
END:DAYLIGHT
BEGIN:STANDARD
TZOFFSETFROM:-0400
TZOFFSETTO:-0500
TZNAME:EST
DTSTART:20271107T060000
END:STANDARD
END:VTIMEZONE
BEGIN:VEVENT
DTSTART;TZID=America/New_York:20260411T103000
DTEND;TZID=America/New_York:20260411T113000
DTSTAMP:20260422T165838
CREATED:20260330T190436Z
LAST-MODIFIED:20260330T190436Z
UID:23949-1775903400-1775907000@kyhumanities.org
SUMMARY:America's 250: Quilt Art: Examining the Narrative in Kentucky Quilts
DESCRIPTION:Location:\nSpencer County Public Library\n\n\nCounty:\nSpencer\n\n\nSponsor:\nSpencer County Public Library\n\n\nCoordinator:\nSara Williams\n\n\nPhone:\n(502) 477-8137\n\n\nPresenter:\nPearlie M. Johnson
URL:https://kyhumanities.org/event/americas-250-quilt-art-examining-the-narrative-in-kentucky-quilts/
LOCATION:Spencer County Public Library\, 168 Taylorsville RD\, Taylorsville\, KY\, 40071-8723
END:VEVENT
BEGIN:VEVENT
DTSTART;TZID=America/New_York:20260411T140000
DTEND;TZID=America/New_York:20260411T150000
DTSTAMP:20260422T165838
CREATED:20260313T190436Z
LAST-MODIFIED:20260313T190436Z
UID:23893-1775916000-1775919600@kyhumanities.org
SUMMARY:Aunt Molly Jackson: Pistol Packin' Woman
DESCRIPTION:Location:\nUniversity of Kentucky Robinson Center\n\n\nCounty:\n\n\n\nSponsor:\nBreathitt County Public Library\n\n\nCoordinator:\nSusan Pugh\n\n\nPhone:\n(606) 666-5541\n\n\nPresenter:\nAnne Shelby
URL:https://kyhumanities.org/event/aunt-molly-jackson-pistol-packin-woman-8/
LOCATION:University of Kentucky Robinson Center\, 130 Robinson Road\, Jackson\, KY\, 41339d
END:VEVENT
END:VCALENDAR