BEGIN:VCALENDAR
VERSION:2.0
PRODID:-//Kentucky Humanities - ECPv6.15.20//NONSGML v1.0//EN
CALSCALE:GREGORIAN
METHOD:PUBLISH
X-WR-CALNAME:Kentucky Humanities
X-ORIGINAL-URL:https://kyhumanities.org
X-WR-CALDESC:Events for Kentucky Humanities
REFRESH-INTERVAL;VALUE=DURATION:PT1H
X-Robots-Tag:noindex
X-PUBLISHED-TTL:PT1H
BEGIN:VTIMEZONE
TZID:America/New_York
BEGIN:DAYLIGHT
TZOFFSETFROM:-0500
TZOFFSETTO:-0400
TZNAME:EDT
DTSTART:20250309T070000
END:DAYLIGHT
BEGIN:STANDARD
TZOFFSETFROM:-0400
TZOFFSETTO:-0500
TZNAME:EST
DTSTART:20251102T060000
END:STANDARD
BEGIN:DAYLIGHT
TZOFFSETFROM:-0500
TZOFFSETTO:-0400
TZNAME:EDT
DTSTART:20260308T070000
END:DAYLIGHT
BEGIN:STANDARD
TZOFFSETFROM:-0400
TZOFFSETTO:-0500
TZNAME:EST
DTSTART:20261101T060000
END:STANDARD
BEGIN:DAYLIGHT
TZOFFSETFROM:-0500
TZOFFSETTO:-0400
TZNAME:EDT
DTSTART:20270314T070000
END:DAYLIGHT
BEGIN:STANDARD
TZOFFSETFROM:-0400
TZOFFSETTO:-0500
TZNAME:EST
DTSTART:20271107T060000
END:STANDARD
END:VTIMEZONE
BEGIN:VEVENT
DTSTART;TZID=America/New_York:20260416T120000
DTEND;TZID=America/New_York:20260416T130000
DTSTAMP:20260422T165832
CREATED:20260216T160437Z
LAST-MODIFIED:20260216T160437Z
UID:23721-1776340800-1776344400@kyhumanities.org
SUMMARY:Revolutionary War in a Trunk
DESCRIPTION:Location:\nOldham County History Center\n\n\nCounty:\nOldham\n\n\nSponsor:\nOldham County History Center\n\n\nCoordinator:\nNancy Theiss\n\n\nPhone:\n(502) 558-0421\n\n\nPresenter:\nGeoff Baggett
URL:https://kyhumanities.org/event/revolutionary-war-in-a-trunk-9/
LOCATION:Oldham County History Center\, 106 N Second Ave\, La Grange\, KY\, 40031-1102
END:VEVENT
BEGIN:VEVENT
DTSTART;TZID=America/New_York:20260416T180000
DTEND;TZID=America/New_York:20260416T190000
DTSTAMP:20260422T165832
CREATED:20251106T180437Z
LAST-MODIFIED:20251106T180437Z
UID:23227-1776362400-1776366000@kyhumanities.org
SUMMARY:Daniel Boone: The First Kentuckian
DESCRIPTION:Location:\nWayne Theater\n\n\nCounty:\nWayne\n\n\nSponsor:\nDAR Nicholas Mercer Chapter\n\n\nCoordinator:\nGeorgia Burton\n\n\nPhone:\n(606) 278-4925\n\n\nPresenter:\nKevin Hardesty\, Bo List
URL:https://kyhumanities.org/event/daniel-boone-the-first-kentuckian-18/
LOCATION:Wayne Theater\, 30 N Main St\, Monticello\, KY\, 42633-2849
END:VEVENT
BEGIN:VEVENT
DTSTART;TZID=America/New_York:20260416T190000
DTEND;TZID=America/New_York:20260416T200000
DTSTAMP:20260422T165832
CREATED:20260216T160437Z
LAST-MODIFIED:20260216T160437Z
UID:23723-1776366000-1776369600@kyhumanities.org
SUMMARY:Revolutionary War in a Trunk
DESCRIPTION:Location:\nOldham County History Center\n\n\nCounty:\nOldham\n\n\nSponsor:\nOldham County History Center\n\n\nCoordinator:\nNancy Theiss\n\n\nPhone:\n(502) 558-0421\n\n\nPresenter:\nGeoff Baggett
URL:https://kyhumanities.org/event/revolutionary-war-in-a-trunk-10/
LOCATION:Oldham County History Center\, 106 N Second Ave\, La Grange\, KY\, 40031-1102
END:VEVENT
BEGIN:VEVENT
DTSTART;TZID=America/New_York:20260416T190000
DTEND;TZID=America/New_York:20260416T200000
DTSTAMP:20260422T165832
CREATED:20260318T140439Z
LAST-MODIFIED:20260318T140439Z
UID:23900-1776366000-1776369600@kyhumanities.org
SUMMARY:William Wells Brown: How I Got My Name
DESCRIPTION:Location:\nCorbin Public Library\n\n\nCounty:\nWhitley\n\n\nSponsor:\nFriends of Corbin Public Library\n\n\nCoordinator:\nMary Anne Hoskins\n\n\nPhone:\n(512) 731-0279\n\n\nPresenter:\nVirgil Covington\, Jr.
URL:https://kyhumanities.org/event/william-wells-brown-how-i-got-my-name-6/
LOCATION:Corbin Public Library\, 215 Roy Kidd Ave\, Corbin\, KY\, 40701-1229
END:VEVENT
END:VCALENDAR