BEGIN:VCALENDAR
VERSION:2.0
PRODID:-//Kentucky Humanities - ECPv6.15.20//NONSGML v1.0//EN
CALSCALE:GREGORIAN
METHOD:PUBLISH
X-WR-CALNAME:Kentucky Humanities
X-ORIGINAL-URL:https://kyhumanities.org
X-WR-CALDESC:Events for Kentucky Humanities
REFRESH-INTERVAL;VALUE=DURATION:PT1H
X-Robots-Tag:noindex
X-PUBLISHED-TTL:PT1H
BEGIN:VTIMEZONE
TZID:America/New_York
BEGIN:DAYLIGHT
TZOFFSETFROM:-0500
TZOFFSETTO:-0400
TZNAME:EDT
DTSTART:20250309T070000
END:DAYLIGHT
BEGIN:STANDARD
TZOFFSETFROM:-0400
TZOFFSETTO:-0500
TZNAME:EST
DTSTART:20251102T060000
END:STANDARD
BEGIN:DAYLIGHT
TZOFFSETFROM:-0500
TZOFFSETTO:-0400
TZNAME:EDT
DTSTART:20260308T070000
END:DAYLIGHT
BEGIN:STANDARD
TZOFFSETFROM:-0400
TZOFFSETTO:-0500
TZNAME:EST
DTSTART:20261101T060000
END:STANDARD
BEGIN:DAYLIGHT
TZOFFSETFROM:-0500
TZOFFSETTO:-0400
TZNAME:EDT
DTSTART:20270314T070000
END:DAYLIGHT
BEGIN:STANDARD
TZOFFSETFROM:-0400
TZOFFSETTO:-0500
TZNAME:EST
DTSTART:20271107T060000
END:STANDARD
END:VTIMEZONE
BEGIN:VEVENT
DTSTART;TZID=America/New_York:20260429T180000
DTEND;TZID=America/New_York:20260429T190000
DTSTAMP:20260422T165702
CREATED:20260108T180442Z
LAST-MODIFIED:20260108T180442Z
UID:23399-1777485600-1777489200@kyhumanities.org
SUMMARY:Famous Kentucky Flavors
DESCRIPTION:Location:\nClark County Extension Office\n\n\nCounty:\nClark\n\n\nSponsor:\nClark County Extension Homemakers\n\n\nCoordinator:\nCindy Spinks\n\n\nPhone:\n(859) 744-4682\n\n\nPresenter:\nBlair Thomas Hess
URL:https://kyhumanities.org/event/famous-kentucky-flavors-2/
LOCATION:Clark County Extension Office\, 1400 Fortune Dr\, Winchester\, KY\, 40391-8292
END:VEVENT
END:VCALENDAR