BEGIN:VCALENDAR
VERSION:2.0
PRODID:-//Kentucky Humanities - ECPv6.15.20//NONSGML v1.0//EN
CALSCALE:GREGORIAN
METHOD:PUBLISH
X-WR-CALNAME:Kentucky Humanities
X-ORIGINAL-URL:https://kyhumanities.org
X-WR-CALDESC:Events for Kentucky Humanities
REFRESH-INTERVAL;VALUE=DURATION:PT1H
X-Robots-Tag:noindex
X-PUBLISHED-TTL:PT1H
BEGIN:VTIMEZONE
TZID:America/New_York
BEGIN:DAYLIGHT
TZOFFSETFROM:-0500
TZOFFSETTO:-0400
TZNAME:EDT
DTSTART:20250309T070000
END:DAYLIGHT
BEGIN:STANDARD
TZOFFSETFROM:-0400
TZOFFSETTO:-0500
TZNAME:EST
DTSTART:20251102T060000
END:STANDARD
BEGIN:DAYLIGHT
TZOFFSETFROM:-0500
TZOFFSETTO:-0400
TZNAME:EDT
DTSTART:20260308T070000
END:DAYLIGHT
BEGIN:STANDARD
TZOFFSETFROM:-0400
TZOFFSETTO:-0500
TZNAME:EST
DTSTART:20261101T060000
END:STANDARD
BEGIN:DAYLIGHT
TZOFFSETFROM:-0500
TZOFFSETTO:-0400
TZNAME:EDT
DTSTART:20270314T070000
END:DAYLIGHT
BEGIN:STANDARD
TZOFFSETFROM:-0400
TZOFFSETTO:-0500
TZNAME:EST
DTSTART:20271107T060000
END:STANDARD
END:VTIMEZONE
BEGIN:VEVENT
DTSTART;TZID=America/New_York:20260501T190000
DTEND;TZID=America/New_York:20260501T200000
DTSTAMP:20260422T092001
CREATED:20260408T180439Z
LAST-MODIFIED:20260408T180439Z
UID:23990-1777662000-1777665600@kyhumanities.org
SUMMARY:America's 250: Mose Rager: Kentucky's Shy Guitar Master
DESCRIPTION:Location:\nElizabethtown Community & Technical College\n\n\nCounty:\nHardin\n\n\nSponsor:\nAncestral Trails Historical Society\n\n\nCoordinator:\nMarcia Barnes\n\n\nPhone:\n(270) 234-4541\n\n\nPresenter:\nNancy Richey
URL:https://kyhumanities.org/event/americas-250-mose-rager-kentuckys-shy-guitar-master/
LOCATION:Elizabethtown Community & Technical College\, 600 College Street RD\, Elizabethtown\, KY\, 42701-3053
END:VEVENT
END:VCALENDAR