BEGIN:VCALENDAR
VERSION:2.0
PRODID:-//Kentucky Humanities - ECPv6.15.20//NONSGML v1.0//EN
CALSCALE:GREGORIAN
METHOD:PUBLISH
X-ORIGINAL-URL:https://kyhumanities.org
X-WR-CALDESC:Events for Kentucky Humanities
REFRESH-INTERVAL;VALUE=DURATION:PT1H
X-Robots-Tag:noindex
X-PUBLISHED-TTL:PT1H
BEGIN:VTIMEZONE
TZID:America/New_York
BEGIN:DAYLIGHT
TZOFFSETFROM:-0500
TZOFFSETTO:-0400
TZNAME:EDT
DTSTART:20250309T070000
END:DAYLIGHT
BEGIN:STANDARD
TZOFFSETFROM:-0400
TZOFFSETTO:-0500
TZNAME:EST
DTSTART:20251102T060000
END:STANDARD
BEGIN:DAYLIGHT
TZOFFSETFROM:-0500
TZOFFSETTO:-0400
TZNAME:EDT
DTSTART:20260308T070000
END:DAYLIGHT
BEGIN:STANDARD
TZOFFSETFROM:-0400
TZOFFSETTO:-0500
TZNAME:EST
DTSTART:20261101T060000
END:STANDARD
BEGIN:DAYLIGHT
TZOFFSETFROM:-0500
TZOFFSETTO:-0400
TZNAME:EDT
DTSTART:20270314T070000
END:DAYLIGHT
BEGIN:STANDARD
TZOFFSETFROM:-0400
TZOFFSETTO:-0500
TZNAME:EST
DTSTART:20271107T060000
END:STANDARD
END:VTIMEZONE
BEGIN:VEVENT
DTSTART;TZID=America/New_York:20260516T090000
DTEND;TZID=America/New_York:20260516T100000
DTSTAMP:20260421T062725
CREATED:20260211T200438Z
LAST-MODIFIED:20260211T200438Z
UID:23621-1778922000-1778925600@kyhumanities.org
SUMMARY:Mourning in Kentucky in the 1800s
DESCRIPTION:Location:\nKenton County Library – Erlanger Branch\n\n\nCounty:\nKenton\n\n\nSponsor:\nKenton County Public Library\n\n\nCoordinator:\nElaine Kuhn\n\n\nPhone:\n(859) 962-4000\n\n\nPresenter:\nCynthia Resor
URL:https://kyhumanities.org/event/mourning-in-kentucky-in-the-1800s/
LOCATION:Kenton County Library – Erlanger Branch\, 401 Kenton Lands RD\, Erlanger\, KY\, 41018-1861
END:VEVENT
END:VCALENDAR